BEGIN:VCALENDAR
VERSION:2.0
PRODID:-//eventon.com NONSGML v1.0//EN
CALSCALE:GREGORIAN
METHOD:PUBLISH
BEGIN:VEVENT
UID:69e631f672043
DTSTAMP:20260420T160230
DTSTART:20220221
DTEND:20220223
TZID:Europe/Paris
LOCATION:Tennis Club La Souterraine Le Cheix\,  23300 La Souterraine
SUMMARY:Tournoi Multi-chances Filles
DESCRIPTION: Tournoi TMC mardi 22 février 15/16 ans filles Juge arbitre Anthony Ramada\,  inscriptions au 0749251399 ou au 0749747524\nhttps://tc-la-souterraine.fr/events/tournoi-multi-chances-filles/
URL:https://tc-la-souterraine.fr/events/tournoi-multi-chances-filles/
END:VEVENT
END:VCALENDAR